BEGIN:VCALENDAR
VERSION:2.0
PRODID:-//LibreRegistration//EN
BEGIN:VEVENT
UID:00000000-0000-4000-8000-000000010811@libreregistration
DTSTAMP:20260421T014726Z
DTSTART:20260122T000000Z
DTEND:20260122T020000Z
SUMMARY:Qjelt — 22/01/2026
END:VEVENT
END:VCALENDAR
