BEGIN:VCALENDAR
VERSION:2.0
PRODID:-//LibreRegistration//EN
BEGIN:VEVENT
UID:00000000-0000-4000-8000-000000010786@libreregistration
DTSTAMP:20260421T015032Z
DTSTART:20251218T000000Z
DTEND:20251218T020000Z
SUMMARY:Qjelt — 18/12/2025
END:VEVENT
END:VCALENDAR
