BEGIN:VCALENDAR
VERSION:2.0
PRODID:-//LibreRegistration//EN
BEGIN:VEVENT
UID:00000000-0000-4000-8000-000000010769@libreregistration
DTSTAMP:20260421T020521Z
DTSTART:20250911T000000Z
DTEND:20250911T020000Z
SUMMARY:Qjelt — 11/09/2025
END:VEVENT
END:VCALENDAR
