BEGIN:VCALENDAR
VERSION:2.0
PRODID:-//LibreRegistration//EN
BEGIN:VEVENT
UID:00000000-0000-4000-8000-000000010734@libreregistration
DTSTAMP:20260421T015451Z
DTSTART:20250612T000000Z
DTEND:20250612T020000Z
SUMMARY:Qjelt — 12/06/2025
END:VEVENT
END:VCALENDAR
