BEGIN:VCALENDAR
VERSION:2.0
PRODID:-//LibreRegistration//EN
BEGIN:VEVENT
UID:00000000-0000-4000-8000-000000010699@libreregistration
DTSTAMP:20260421T020435Z
DTSTART:20250227T000000Z
DTEND:20250227T020000Z
SUMMARY:Qjelt — 27/02/2025
END:VEVENT
END:VCALENDAR
