BEGIN:VCALENDAR
VERSION:2.0
PRODID:-//LibreRegistration//EN
BEGIN:VEVENT
UID:00000000-0000-4000-8000-000000010670@libreregistration
DTSTAMP:20260421T014908Z
DTSTART:20250116T000000Z
DTEND:20250116T020000Z
SUMMARY:Qjelt — 16/01/2025
END:VEVENT
END:VCALENDAR
