BEGIN:VCALENDAR
VERSION:2.0
PRODID:-//LibreRegistration//EN
BEGIN:VEVENT
UID:00000000-0000-4000-8000-000000010645@libreregistration
DTSTAMP:20260421T015728Z
DTSTART:20240905T000000Z
DTEND:20240905T020000Z
SUMMARY:Qjelt — 05/09/2024
END:VEVENT
END:VCALENDAR
