BEGIN:VCALENDAR
VERSION:2.0
PRODID:-//LibreRegistration//EN
BEGIN:VEVENT
UID:00000000-0000-4000-8000-000000010628@libreregistration
DTSTAMP:20260421T020436Z
DTSTART:20240514T000000Z
DTEND:20240514T020000Z
SUMMARY:Qjelt — 14/05/2024
END:VEVENT
END:VCALENDAR
