BEGIN:VCALENDAR
VERSION:2.0
PRODID:-//LibreRegistration//EN
BEGIN:VEVENT
UID:00000000-0000-4000-8000-000000010603@libreregistration
DTSTAMP:20260421T020435Z
DTSTART:20240321T000000Z
DTEND:20240321T020000Z
SUMMARY:Qjelt — 21/03/2024
END:VEVENT
END:VCALENDAR
