BEGIN:VCALENDAR
VERSION:2.0
PRODID:-//LibreRegistration//EN
BEGIN:VEVENT
UID:00000000-0000-4000-8000-000000010564@libreregistration
DTSTAMP:20260421T014848Z
DTSTART:20240118T000000Z
DTEND:20240118T020000Z
SUMMARY:Qjelt — 18/01/2024
END:VEVENT
END:VCALENDAR
