BEGIN:VCALENDAR
VERSION:2.0
PRODID:-//LibreRegistration//EN
BEGIN:VEVENT
UID:00000000-0000-4000-8000-000000010561@libreregistration
DTSTAMP:20260421T014736Z
DTSTART:20231202T000000Z
DTEND:20231202T020000Z
SUMMARY:Atelier Cpp Qt — 02/12/2023
END:VEVENT
END:VCALENDAR
