BEGIN:VCALENDAR
VERSION:2.0
PRODID:-//LibreRegistration//EN
BEGIN:VEVENT
UID:00000000-0000-4000-8000-000000010533@libreregistration
DTSTAMP:20260421T020655Z
DTSTART:20231125T000000Z
DTEND:20231125T020000Z
SUMMARY:Atelier Debutants Blender — 25/11/2023
END:VEVENT
END:VCALENDAR
