BEGIN:VCALENDAR
VERSION:2.0
PRODID:-//LibreRegistration//EN
BEGIN:VEVENT
UID:00000000-0000-4000-8000-000000010540@libreregistration
DTSTAMP:20260421T015022Z
DTSTART:20231123T000000Z
DTEND:20231123T020000Z
SUMMARY:Qjelt — 23/11/2023
END:VEVENT
END:VCALENDAR
