BEGIN:VCALENDAR
VERSION:2.0
PRODID:-//LibreRegistration//EN
BEGIN:VEVENT
UID:00000000-0000-4000-8000-000000010530@libreregistration
DTSTAMP:20260421T014629Z
DTSTART:20231104T000000Z
DTEND:20231104T020000Z
SUMMARY:Atelier Cpp Qt — 04/11/2023
END:VEVENT
END:VCALENDAR
