BEGIN:VCALENDAR
VERSION:2.0
PRODID:-//LibreRegistration//EN
BEGIN:VEVENT
UID:00000000-0000-4000-8000-000000010515@libreregistration
DTSTAMP:20260421T020655Z
DTSTART:20231021T000000Z
DTEND:20231021T020000Z
SUMMARY:Atelier Blender — 21/10/2023
END:VEVENT
END:VCALENDAR
