BEGIN:VCALENDAR
VERSION:2.0
PRODID:-//LibreRegistration//EN
BEGIN:VEVENT
UID:00000000-0000-4000-8000-000000010518@libreregistration
DTSTAMP:20260421T014624Z
DTSTART:20231007T000000Z
DTEND:20231007T020000Z
SUMMARY:Atelier Cpp Qt — 07/10/2023
END:VEVENT
END:VCALENDAR
