BEGIN:VCALENDAR
VERSION:2.0
PRODID:-//LibreRegistration//EN
BEGIN:VEVENT
UID:00000000-0000-4000-8000-000000010480@libreregistration
DTSTAMP:20260421T020521Z
DTSTART:20230928T000000Z
DTEND:20230928T020000Z
SUMMARY:Qjelt — 28/09/2023
END:VEVENT
END:VCALENDAR
