BEGIN:VCALENDAR
VERSION:2.0
PRODID:-//LibreRegistration//EN
BEGIN:VEVENT
UID:00000000-0000-4000-8000-000000010451@libreregistration
DTSTAMP:20260421T014752Z
DTSTART:20230629T000000Z
DTEND:20230629T020000Z
SUMMARY:Qjelt — 29/06/2023
END:VEVENT
END:VCALENDAR
