BEGIN:VCALENDAR
VERSION:2.0
PRODID:-//LibreRegistration//EN
BEGIN:VEVENT
UID:00000000-0000-4000-8000-000000010422@libreregistration
DTSTAMP:20260421T020010Z
DTSTART:20230525T000000Z
DTEND:20230525T020000Z
SUMMARY:Qjelt — 25/05/2023
END:VEVENT
END:VCALENDAR
