BEGIN:VCALENDAR
VERSION:2.0
PRODID:-//LibreRegistration//EN
BEGIN:VEVENT
UID:00000000-0000-4000-8000-000000010413@libreregistration
DTSTAMP:20260421T020552Z
DTSTART:20230520T000000Z
DTEND:20230520T020000Z
SUMMARY:Atelier Blender — 20/05/2023
END:VEVENT
END:VCALENDAR
