BEGIN:VCALENDAR
VERSION:2.0
PRODID:-//LibreRegistration//EN
BEGIN:VEVENT
UID:00000000-0000-4000-8000-000000010408@libreregistration
DTSTAMP:20260421T020644Z
DTSTART:20230415T000000Z
DTEND:20230415T020000Z
SUMMARY:Atelier Blender — 15/04/2023
END:VEVENT
END:VCALENDAR
