BEGIN:VCALENDAR
VERSION:2.0
PRODID:-//LibreRegistration//EN
BEGIN:VEVENT
UID:00000000-0000-4000-8000-000000010367@libreregistration
DTSTAMP:20260421T020403Z
DTSTART:20230302T000000Z
DTEND:20230302T020000Z
SUMMARY:Qjelt — 02/03/2023
END:VEVENT
END:VCALENDAR
