BEGIN:VCALENDAR
VERSION:2.0
PRODID:-//LibreRegistration//EN
BEGIN:VEVENT
UID:00000000-0000-4000-8000-000000010357@libreregistration
DTSTAMP:20260421T020644Z
DTSTART:20230211T000000Z
DTEND:20230211T020000Z
SUMMARY:Atelier Blender — 11/02/2023
END:VEVENT
END:VCALENDAR
