BEGIN:VCALENDAR
VERSION:2.0
PRODID:-//LibreRegistration//EN
BEGIN:VEVENT
UID:00000000-0000-4000-8000-000000010328@libreregistration
DTSTAMP:20260421T033124Z
DTSTART:20230112T000000Z
DTEND:20230112T020000Z
SUMMARY:Qjelt — 12/01/2023
END:VEVENT
END:VCALENDAR
