BEGIN:VCALENDAR
VERSION:2.0
PRODID:-//LibreRegistration//EN
BEGIN:VEVENT
UID:00000000-0000-4000-8000-000000010321@libreregistration
DTSTAMP:20260421T032847Z
DTSTART:20230107T000000Z
DTEND:20230107T020000Z
SUMMARY:Atelier Cpp Qt — 07/01/2023
END:VEVENT
END:VCALENDAR
