BEGIN:VCALENDAR
VERSION:2.0
PRODID:-//LibreRegistration//EN
BEGIN:VEVENT
UID:00000000-0000-4000-8000-000000010302@libreregistration
DTSTAMP:20260421T033814Z
DTSTART:20221203T000000Z
DTEND:20221203T020000Z
SUMMARY:Atelier Blender — 03/12/2022
END:VEVENT
END:VCALENDAR
