BEGIN:VCALENDAR
VERSION:2.0
PRODID:-//LibreRegistration//EN
BEGIN:VEVENT
UID:00000000-0000-4000-8000-000000010294@libreregistration
DTSTAMP:20260421T033312Z
DTSTART:20221015T000000Z
DTEND:20221015T020000Z
SUMMARY:Atelier Blender — 15/10/2022
END:VEVENT
END:VCALENDAR
