BEGIN:VCALENDAR
VERSION:2.0
PRODID:-//LibreRegistration//EN
BEGIN:VEVENT
UID:00000000-0000-4000-8000-000000010267@libreregistration
DTSTAMP:20260421T033209Z
DTSTART:20220929T000000Z
DTEND:20220929T020000Z
SUMMARY:Qjelt — 29/09/2022
END:VEVENT
END:VCALENDAR
