BEGIN:VCALENDAR
VERSION:2.0
PRODID:-//LibreRegistration//EN
BEGIN:VEVENT
UID:00000000-0000-4000-8000-000000010262@libreregistration
DTSTAMP:20260421T032908Z
DTSTART:20220903T000000Z
DTEND:20220903T020000Z
SUMMARY:Atelier Cpp Qt — 03/09/2022
END:VEVENT
END:VCALENDAR
