BEGIN:VCALENDAR
VERSION:2.0
PRODID:-//LibreRegistration//EN
BEGIN:VEVENT
UID:00000000-0000-4000-8000-000000010233@libreregistration
DTSTAMP:20260421T033043Z
DTSTART:20220707T000000Z
DTEND:20220707T020000Z
SUMMARY:Qjelt — 07/07/2022
END:VEVENT
END:VCALENDAR
