BEGIN:VCALENDAR
VERSION:2.0
PRODID:-//LibreRegistration//EN
BEGIN:VEVENT
UID:00000000-0000-4000-8000-000000010227@libreregistration
DTSTAMP:20260421T033010Z
DTSTART:20220604T000000Z
DTEND:20220604T020000Z
SUMMARY:TST1 — 04/06/2022
END:VEVENT
END:VCALENDAR
