BEGIN:VCALENDAR
VERSION:2.0
PRODID:-//LibreRegistration//EN
BEGIN:VEVENT
UID:00000000-0000-4000-8000-000000010219@libreregistration
DTSTAMP:20260421T033009Z
DTSTART:20220521T000000Z
DTEND:20220521T020000Z
SUMMARY:TST1 — 21/05/2022
END:VEVENT
END:VCALENDAR
