BEGIN:VCALENDAR
VERSION:2.0
PRODID:-//LibreRegistration//EN
BEGIN:VEVENT
UID:00000000-0000-4000-8000-000000010188@libreregistration
DTSTAMP:20260421T033122Z
DTSTART:20220420T000000Z
DTEND:20220420T020000Z
SUMMARY:Qjelt — 20/04/2022
END:VEVENT
END:VCALENDAR
