BEGIN:VCALENDAR
VERSION:2.0
PRODID:-//LibreRegistration//EN
BEGIN:VEVENT
UID:00000000-0000-4000-8000-000000010137@libreregistration
DTSTAMP:20260421T032907Z
DTSTART:20220402T000000Z
DTEND:20220402T020000Z
SUMMARY:TST1 — 02/04/2022
END:VEVENT
END:VCALENDAR
