BEGIN:VCALENDAR
VERSION:2.0
PRODID:-//LibreRegistration//EN
BEGIN:VEVENT
UID:00000000-0000-4000-8000-000000010183@libreregistration
DTSTAMP:20260421T033009Z
DTSTART:20220416T000000Z
DTEND:20220416T020000Z
SUMMARY:TST1 — 16/04/2022
END:VEVENT
END:VCALENDAR
