BEGIN:VCALENDAR
VERSION:2.0
PRODID:-//LibreRegistration//EN
BEGIN:VEVENT
UID:00000000-0000-4000-8000-000000010146@libreregistration
DTSTAMP:20260421T033123Z
DTSTART:20220331T000000Z
DTEND:20220331T020000Z
SUMMARY:Qjelt — 31/03/2022
END:VEVENT
END:VCALENDAR
