BEGIN:VCALENDAR
VERSION:2.0
PRODID:-//LibreRegistration//EN
BEGIN:VEVENT
UID:00000000-0000-4000-8000-000000010124@libreregistration
DTSTAMP:20260421T032931Z
DTSTART:20220205T000000Z
DTEND:20220205T020000Z
SUMMARY:TST1 — 05/02/2022
END:VEVENT
END:VCALENDAR
