BEGIN:VCALENDAR
VERSION:2.0
PRODID:-//LibreRegistration//EN
BEGIN:VEVENT
UID:00000000-0000-4000-8000-000000010114@libreregistration
DTSTAMP:20260421T033210Z
DTSTART:20220115T000000Z
DTEND:20220115T020000Z
SUMMARY:TST1qjelt — 15/01/2022
END:VEVENT
END:VCALENDAR
