BEGIN:VCALENDAR
VERSION:2.0
PRODID:-//LibreRegistration//EN
BEGIN:VEVENT
UID:00000000-0000-4000-8000-000000010089@libreregistration
DTSTAMP:20260421T033209Z
DTSTART:20211125T000000Z
DTEND:20211125T020000Z
SUMMARY:Qjelt — 25/11/2021
END:VEVENT
END:VCALENDAR
