BEGIN:VCALENDAR
VERSION:2.0
PRODID:-//LibreRegistration//EN
BEGIN:VEVENT
UID:00000000-0000-4000-8000-000000010056@libreregistration
DTSTAMP:20260421T033220Z
DTSTART:20211021T000000Z
DTEND:20211021T020000Z
SUMMARY:Qjelt — 21/10/2021
END:VEVENT
END:VCALENDAR
