BEGIN:VCALENDAR
VERSION:2.0
PRODID:-//LibreRegistration//EN
BEGIN:VEVENT
UID:00000000-0000-4000-8000-000000010031@libreregistration
DTSTAMP:20260421T033220Z
DTSTART:20210923T000000Z
DTEND:20210923T020000Z
SUMMARY:Qjelt — 23/09/2021
END:VEVENT
END:VCALENDAR
