BEGIN:VCALENDAR
VERSION:2.0
PRODID:-//LibreRegistration//EN
BEGIN:VEVENT
UID:00000000-0000-4000-8000-000000010004@libreregistration
DTSTAMP:20260421T033042Z
DTSTART:20210707T000000Z
DTEND:20210707T020000Z
SUMMARY:Qjelt — 07/07/2021
END:VEVENT
END:VCALENDAR
