BEGIN:VCALENDAR
VERSION:2.0
PRODID:-//LibreRegistration//EN
BEGIN:VEVENT
UID:00000000-0000-4000-8000-000000009983@libreregistration
DTSTAMP:20260421T033122Z
DTSTART:20200625T000000Z
DTEND:20200625T020000Z
SUMMARY:Qjelt — 25/06/2020
END:VEVENT
END:VCALENDAR
