BEGIN:VCALENDAR
VERSION:2.0
PRODID:-//LibreRegistration//EN
BEGIN:VEVENT
UID:00000000-0000-4000-8000-000000009968@libreregistration
DTSTAMP:20260421T051720Z
DTSTART:20200213T000000Z
DTEND:20200213T020000Z
SUMMARY:Qjelt — 13/02/2020
END:VEVENT
END:VCALENDAR
