BEGIN:VCALENDAR
VERSION:2.0
PRODID:-//LibreRegistration//EN
BEGIN:VEVENT
UID:00000000-0000-4000-8000-000000009945@libreregistration
DTSTAMP:20260421T052529Z
DTSTART:20200116T000000Z
DTEND:20200116T020000Z
SUMMARY:Qjelt — 16/01/2020
END:VEVENT
END:VCALENDAR
