BEGIN:VCALENDAR
VERSION:2.0
PRODID:-//LibreRegistration//EN
BEGIN:VEVENT
UID:00000000-0000-4000-8000-000000009928@libreregistration
DTSTAMP:20260421T051604Z
DTSTART:20191217T000000Z
DTEND:20191217T020000Z
SUMMARY:Qjelt — 17/12/2019
END:VEVENT
END:VCALENDAR
