BEGIN:VCALENDAR
VERSION:2.0
PRODID:-//LibreRegistration//EN
BEGIN:VEVENT
UID:00000000-0000-4000-8000-000000009925@libreregistration
DTSTAMP:20260421T052431Z
DTSTART:20191211T000000Z
DTEND:20191211T020000Z
SUMMARY:Ticket — 11/12/2019
END:VEVENT
END:VCALENDAR
