BEGIN:VCALENDAR
VERSION:2.0
PRODID:-//LibreRegistration//EN
BEGIN:VEVENT
UID:00000000-0000-4000-8000-000000009912@libreregistration
DTSTAMP:20260421T051721Z
DTSTART:20191121T000000Z
DTEND:20191121T020000Z
SUMMARY:Qjelt — 21/11/2019
END:VEVENT
END:VCALENDAR
