BEGIN:VCALENDAR
VERSION:2.0
PRODID:-//LibreRegistration//EN
BEGIN:VEVENT
UID:00000000-0000-4000-8000-000000009903@libreregistration
DTSTAMP:20260421T052559Z
DTSTART:20190926T000000Z
DTEND:20190926T020000Z
SUMMARY:Qjelt — 26/09/2019
END:VEVENT
END:VCALENDAR
