BEGIN:VCALENDAR
VERSION:2.0
PRODID:-//LibreRegistration//EN
BEGIN:VEVENT
UID:00000000-0000-4000-8000-000000009880@libreregistration
DTSTAMP:20260421T051543Z
DTSTART:20190627T000000Z
DTEND:20190627T020000Z
SUMMARY:Qjelt — 27/06/2019
END:VEVENT
END:VCALENDAR
